BEGIN:VCALENDAR
VERSION:2.0
PRODID:-//ChamberMaster//Event Calendar 2.0//EN
METHOD:PUBLISH
X-PUBLISHED-TTL:P3D
REFRESH-INTERVAL:P3D
CALSCALE:GREGORIAN
BEGIN:VEVENT
DTSTART:20260430T213000Z
DTEND:20260430T223000Z
X-MICROSOFT-CDO-ALLDAYEVENT:FALSE
SUMMARY:May Coffee + Connect 2026
DESCRIPTION:May Coffee + Connect\n\n\n\nKickstart your Friday morning with great coffee\, genuine connections and inspiring conversations at our May Coffee + Connect.\n\n\n\nThis month's event is proudly hosted and sponsored by Wishlist. Join us as we hear from Wishlist team about the incredible work they do supporting local hospitals and health services\, funding vital medical equipment\, research and patient support programs that make a real difference across our region.\n\n\n\nThis Coffee + Connect is the perfect opportunity to grow your network in a relaxed environment\, meet like-minded professionals and learn more about organisations creating positive impact in our community.\n\n\n\nWhether you're looking to connect with new people\, strengthen existing relationships\, or simply start your morning with a good conversation and a coffee\, we would love to see you there!\n\n\n\nEnjoy a Coffee\n\nBuild meaningful connections\n\nLearn about the important work of Wishlist in our community\n\n\n\nBring a colleague\, invite a friend and join us for a friendly and welcoming morning!
X-ALT-DESC;FMTTYPE=text/html:May Coffee + Connect<br />\n<br />\nKickstart your Friday morning with great coffee\, genuine connections and inspiring conversations at our May Coffee + Connect.<br />\n<br />\nThis month&#39\;s event is proudly hosted and sponsored by Wishlist. Join us as we hear from Wishlist team about the incredible work they do supporting local hospitals and health services\, funding vital medical equipment\, research and patient support programs that make a real difference across our region.<br />\n<br />\nThis Coffee + Connect is the perfect opportunity to grow your network in a relaxed environment\, meet like-minded professionals and learn more about organisations creating positive impact in our community.<br />\n<br />\nWhether you&#39\;re looking to connect with new people\, strengthen existing relationships\, or simply start your morning with a good conversation and a coffee\, we would love to see you there!<br />\n<br />\nEnjoy a Coffee<br />\nBuild meaningful connections<br />\nLearn about the important work of Wishlist in our community<br />\n<br />\nBring a colleague\, invite a friend and join us for a friendly and welcoming morning!&nbsp\;
LOCATION:Wishlist Centre - 1 Bright Place\, Birtinya QLD 4575
UID:e.3276.1141
SEQUENCE:3
DTSTAMP:20260420T203311Z
URL:http://maroochy.chambermaster.com/events/details/may-coffee-connect-2026-1141
END:VEVENT

END:VCALENDAR
